BEGIN:VCALENDAR
VERSION:2.0
PRODID:-//eventon.com NONSGML v1.0//EN
CALSCALE:GREGORIAN
METHOD:PUBLISH
BEGIN:VEVENT
UID:69e9d50e2a8b1
DTSTAMP:20260423T081510Z
DTSTART:20260308T011500Z
DTEND:20260308T041500Z
LOCATION:
SUMMARY:Crab Feed
DESCRIPTION:Crab Feed\nhttps://www.rcoc.com/events/crab-feed/
URL:https://www.rcoc.com/events/crab-feed/
END:VEVENT
END:VCALENDAR