BEGIN:VCALENDAR
VERSION:2.0
PRODID:-//eventon.com NONSGML v1.0//EN
CALSCALE:GREGORIAN
METHOD:PUBLISH
BEGIN:VEVENT
UID:69e5ee264f89b
DTSTAMP:20260420T091310Z
DTSTART:20250403T173000Z
DTEND:20250403T190000Z
LOCATION:
SUMMARY:RCOC Open House
DESCRIPTION:RCOC Open House\nhttps://www.rcoc.com/events/rcoc-open-house/
URL:https://www.rcoc.com/events/rcoc-open-house/
END:VEVENT
END:VCALENDAR